BEGIN:VCALENDAR
VERSION:2.0
PRODID:-//ChamberMaster//Event Calendar 2.0//EN
METHOD:PUBLISH
X-PUBLISHED-TTL:P3D
REFRESH-INTERVAL:P3D
CALSCALE:GREGORIAN
BEGIN:VEVENT
DTSTART:20220326T120000Z
DTEND:20220326T170000Z
X-MICROSOFT-CDO-ALLDAYEVENT:FALSE
SUMMARY:13th Annual Tater Hill Fun Shoot
DESCRIPTION:2022 Sponsorship Opportunities\n\n\n\nGOLD SPONSOR - $575 \n\nGold Sponsors will have one team of 4 shooters\, use of a shooting cart\, Gold Sponsorship Signage\, Recognition during lunch\, 4 Raffle Tickets and Lunch for 4. \n\n \n\nSILVER SPONSOR - $450 \n\nSilver Sponsor will have one team of 4 shooters\, a Station Sponsorship Sign\, 4 Raffle Tickets and Lunch for 4. \n\n \n\nINDIVIDUAL SHOOTER - $100 \n\nIncludes 1 Raffle Ticket and Lunch \n\n \n\nSTATION SPONSOR - $125 \n\nBusiness Sign on Station\n\n\n\nRegistration opens at 7:30AM\n\nShooting Starts at 8:30AM\n\n\n\n100 SHOT COURSE\n\n\n\nAmmo not included\n\n\n\nLunch will be provided
X-ALT-DESC;FMTTYPE=text/html:<p style="margin: 0px\; font-stretch: normal\; font-size: 12px\; line-height: normal\; font-family: Helvetica\; min-height: 14px\;"><b><span style="font-size:20px\;">2022&nbsp\;Sponsorship Opportunities</span><br />\n<br />\n<span style="font-size:16px\;">GOLD SPONSOR - $575</span>&nbsp\;</b></p>\n\n<p style="margin: 0px\; font-stretch: normal\; font-size: 11.5px\; line-height: normal\; font-family: Helvetica\; color: rgb(1\, 2\, 2)\;">Gold Sponsors will have one team of 4 shooters\, use of a shooting cart\, Gold Sponsorship Signage\, Recognition during lunch\,&nbsp\;4 Raffle Tickets and Lunch for 4.&nbsp\;<br />\n&nbsp\;</p>\n\n<p style="margin: 0px\; font-stretch: normal\; font-size: 15px\; line-height: normal\; font-family: Helvetica\; color: rgb(1\, 2\, 2)\;"><b>SILVER SPONSOR - $450&nbsp\;</b></p>\n\n<p style="margin: 0px\; font-stretch: normal\; font-size: 11.5px\; line-height: normal\; font-family: Helvetica\; color: rgb(1\, 2\, 2)\;">Silver Sponsor will have one team of 4 shooters\, a Station Sponsorship Sign\, 4 Raffle Tickets and Lunch for 4.&nbsp\;<br />\n&nbsp\;</p>\n\n<p style="margin: 0px\; font-stretch: normal\; font-size: 15px\; line-height: normal\; font-family: Helvetica\; color: rgb(1\, 2\, 2)\;"><b>INDIVIDUAL SHOOTER - $100&nbsp\;</b></p>\n\n<p style="margin: 0px\; font-stretch: normal\; font-size: 11.5px\; line-height: normal\; font-family: Helvetica\; color: rgb(1\, 2\, 2)\;">Includes 1 Raffle Ticket and Lunch&nbsp\;<br />\n&nbsp\;</p>\n\n<p style="margin: 0px\; font-stretch: normal\; font-size: 15px\; line-height: normal\; font-family: Helvetica\; color: rgb(1\, 2\, 2)\;"><b>STATION SPONSOR - $125&nbsp\;</b></p>\n\n<p style="margin: 0px\; font-stretch: normal\; font-size: 11.5px\; line-height: normal\; font-family: Helvetica\; color: rgb(1\, 2\, 2)\;">Business Sign on Station<br />\n<br />\nRegistration opens at 7:30AM<br />\nShooting Starts at 8:30AM<br />\n<br />\n100 SHOT COURSE<br />\n<br />\n<strong>Ammo not included</strong><br />\n<br />\nLunch will be provided</p>\n
LOCATION:Bermont Shooting Club 40571 Bermont Road Punta Gorda\, FL 33982
UID:e.1683.772
SEQUENCE:3
DTSTAMP:20260423T041800Z
URL:https://business.desotochamberfl.com/events/details/13th-annual-tater-hill-fun-shoot-772
END:VEVENT

END:VCALENDAR
