BEGIN:VCALENDAR
VERSION:2.0
PRODID:-//ChamberMaster//Event Calendar 2.0//EN
METHOD:PUBLISH
X-PUBLISHED-TTL:P3D
REFRESH-INTERVAL:P3D
CALSCALE:GREGORIAN
BEGIN:VEVENT
DTSTART:20230510T153000Z
DTEND:20230510T173000Z
X-MICROSOFT-CDO-ALLDAYEVENT:FALSE
SUMMARY:2023 Florida SBDC at USF Business Awards Celebration Luncheon
DESCRIPTION:On May 10\, 2023\, the U.S. Small Business Administration (SBA) will join the Florida SBDC at USF\, celebrating National Small Business Week\, and recognizing area businesses at the 2023 Florida SBDC at USF Business Awards Luncheon. The 2023 Business Awards Luncheon recognizes Florida SBDC at USF and U.S. SBA business award winners for their work during 2022. In addition\, Florida SBDC at USF team members are recognized for their outstanding work. For more information or to register\, please visit SBDCTampaBay.com
X-ALT-DESC;FMTTYPE=text/html:On May 10\, 2023\, the U.S. Small Business Administration (SBA) will join the Florida SBDC at USF\, celebrating National Small Business Week\, and recognizing area businesses at the 2023 Florida SBDC at USF Business Awards Luncheon. The 2023 Business Awards Luncheon recognizes Florida SBDC at USF and U.S. SBA business award winners for their work during 2022. In addition\, Florida SBDC at USF team members are recognized for their outstanding work. For more information or to register\, please visit SBDCTampaBay.com
LOCATION:USF Marshall Center 4103 USF Cedar Circle Tampa\, FL 33620 Second Floor: 2100 AB
UID:e.1683.827
SEQUENCE:3
DTSTAMP:20260422T011524Z
URL:https://business.desotochamberfl.com/events/details/2023-florida-sbdc-at-usf-business-awards-celebration-luncheon-827
END:VEVENT

END:VCALENDAR
