BEGIN:VCALENDAR
VERSION:2.0
PRODID:-//ChamberMaster//Event Calendar 2.0//EN
METHOD:PUBLISH
X-PUBLISHED-TTL:P3D
REFRESH-INTERVAL:P3D
CALSCALE:GREGORIAN
BEGIN:VEVENT
DTSTART;VALUE=DATE:20230321
DTEND;VALUE=DATE:20230322
TRANSP:TRANSPARENT
X-MICROSOFT-CDO-ALLDAYEVENT:TRUE
SUMMARY:2023 RV Challenge Blood Drive
DESCRIPTION:Come on out to the 2023 RV Challenge at Arcadia Village CC\, 2692 NE Hwy 70 from 12pm to 5pm.
X-ALT-DESC;FMTTYPE=text/html:Come on out to the 2023 RV Challenge at Arcadia Village CC\, 2692 NE Hwy 70 from 12pm to 5pm.
LOCATION:
UID:e.1683.818
SEQUENCE:3
DTSTAMP:20260422T064409Z
URL:https://business.desotochamberfl.com/events/details/2023-rv-challenge-blood-drive-818
END:VEVENT

END:VCALENDAR
