BEGIN:VCALENDAR
VERSION:2.0
PRODID:-//ChamberMaster//Event Calendar 2.0//EN
METHOD:PUBLISH
X-PUBLISHED-TTL:P3D
REFRESH-INTERVAL:P3D
CALSCALE:GREGORIAN
BEGIN:VEVENT
DTSTART:20220519T220000Z
DTEND:20220520T000000Z
X-MICROSOFT-CDO-ALLDAYEVENT:FALSE
SUMMARY:Annual Leadership DeSoto Celebration
DESCRIPTION:Join us for our Annual Leadership DeSoto Celebration!
X-ALT-DESC;FMTTYPE=text/html:Join us for our Annual Leadership DeSoto Celebration!
LOCATION:Arcadia Municipal Golf Course 1769 NE Livingston St Arcadia\, FL 34266
UID:e.1683.780
SEQUENCE:3
DTSTAMP:20260423T111054Z
URL:https://business.desotochamberfl.com/events/details/annual-leadership-desoto-celebration-780
END:VEVENT

END:VCALENDAR
