BEGIN:VCALENDAR
VERSION:2.0
PRODID:-//ChamberMaster//Event Calendar 2.0//EN
METHOD:PUBLISH
X-PUBLISHED-TTL:P3D
REFRESH-INTERVAL:P3D
CALSCALE:GREGORIAN
BEGIN:VEVENT
DTSTART;VALUE=DATE:20201223
DTEND;VALUE=DATE:20210105
TRANSP:TRANSPARENT
X-MICROSOFT-CDO-ALLDAYEVENT:TRUE
SUMMARY:Closed for Christmas & New Years
DESCRIPTION:The Chamber will be closed in observance of Christmas and New Years\, December 23th - January 4th.\n\n \n\nThe DeSoto County Chamber of Commerce \n\nwishes you & your family a Merry Christmas & a Happy New Year!
X-ALT-DESC;FMTTYPE=text/html:<span style="font-size: 24pt\;"><span style="font-family: &quot\;bell mt&quot\;\;">The Chamber will be closed in observance of Christmas and New Years\, December</span></span><span style="font-size: 24pt\;"><span style="font-family: &quot\;bell mt&quot\;\;">&nbsp\;23th - January 4th.</span></span><br />\n&nbsp\;<br />\n<span style="font-weight: bold\;"><span style="font-size: 24pt\;"><span style="font-family: &quot\;bell mt&quot\;\;">The DeSoto County Chamber of Commerce&nbsp\;</span></span></span><br />\n<span style="font-weight: bold\;"><span style="font-size: 24pt\;"><span style="font-family: &quot\;bell mt&quot\;\;">wishes you &amp\; your family a Merry Christmas &amp\; a Happy New Year!</span></span></span>
LOCATION:
UID:e.1683.735
SEQUENCE:3
DTSTAMP:20260424T215857Z
URL:https://business.desotochamberfl.com/events/details/closed-for-christmas-new-years-735
END:VEVENT

END:VCALENDAR
