BEGIN:VCALENDAR
VERSION:2.0
PRODID:-//ChamberMaster//Event Calendar 2.0//EN
METHOD:PUBLISH
X-PUBLISHED-TTL:P3D
REFRESH-INTERVAL:P3D
CALSCALE:GREGORIAN
BEGIN:VEVENT
DTSTART:20210403T140000Z
DTEND:20210403T170000Z
X-MICROSOFT-CDO-ALLDAYEVENT:FALSE
SUMMARY:DeSoto Arts Center Basic Stained Glass Class
DESCRIPTION:Amber Collins will be instructing students on how to make 3 tea light candle holders with a varied selection of glass. Saturday\, April 3rd\, 10am-1pm.
X-ALT-DESC;FMTTYPE=text/html:Amber Collins will be instructing students on how to make 3 tea light candle holders with a varied selection of glass. Saturday\, April 3rd\, 10am-1pm.
LOCATION:DeSoto Arts Center Gallery 209 West Oak Street\, Arcadia
UID:e.1683.749
SEQUENCE:3
DTSTAMP:20260422T002419Z
URL:https://business.desotochamberfl.com/events/details/desoto-arts-center-basic-stained-glass-class-749
END:VEVENT

END:VCALENDAR
