BEGIN:VCALENDAR
VERSION:2.0
PRODID:-//ChamberMaster//Event Calendar 2.0//EN
METHOD:PUBLISH
X-PUBLISHED-TTL:P3D
REFRESH-INTERVAL:P3D
CALSCALE:GREGORIAN
BEGIN:VEVENT
DTSTART:20210320T140000Z
DTEND:20210320T170000Z
X-MICROSOFT-CDO-ALLDAYEVENT:FALSE
SUMMARY:DeSoto Arts Center Basic Watercolor Class
DESCRIPTION:This will be the subject of Instructor Joan Cranor's basic watercolor class on Saturday\, March 20th\, 10am-1pm. You will learn the basics of watercolors\, making fresh washes\, mixing colors\, showing distance and dry brush techniques.
X-ALT-DESC;FMTTYPE=text/html:This will be the subject of Instructor Joan Cranor&#39\;s basic watercolor class on Saturday\, March 20th\, 10am-1pm. You will learn the basics of watercolors\, making fresh washes\, mixing colors\, showing distance and dry brush techniques.
LOCATION:DeSoto Art Center Gallery 209 West Oak Street\, Arcadia
UID:e.1683.746
SEQUENCE:3
DTSTAMP:20260422T021629Z
URL:https://business.desotochamberfl.com/events/details/desoto-arts-center-basic-watercolor-class-746
END:VEVENT

END:VCALENDAR
