BEGIN:VCALENDAR
VERSION:2.0
PRODID:-//ChamberMaster//Event Calendar 2.0//EN
METHOD:PUBLISH
X-PUBLISHED-TTL:P3D
REFRESH-INTERVAL:P3D
CALSCALE:GREGORIAN
BEGIN:VEVENT
DTSTART:20210314T190000Z
DTEND:20210314T200000Z
X-MICROSOFT-CDO-ALLDAYEVENT:FALSE
SUMMARY:DeSoto Arts Center Palm Frond Painting Class
DESCRIPTION:Cyndy will be teaching this class on Sunday\, March 14th\, 2pm-4pm.
X-ALT-DESC;FMTTYPE=text/html:Cyndy will be teaching this class on Sunday\, March 14th\, 2pm-4pm.
LOCATION:DeSoto Arts Center Gallery 209 West Oak Street\, Arcadia
UID:e.1683.748
SEQUENCE:3
DTSTAMP:20260422T022805Z
URL:https://business.desotochamberfl.com/events/details/desoto-arts-center-palm-frond-painting-class-748
END:VEVENT

END:VCALENDAR
