BEGIN:VCALENDAR
VERSION:2.0
PRODID:-//ChamberMaster//Event Calendar 2.0//EN
METHOD:PUBLISH
X-PUBLISHED-TTL:P3D
REFRESH-INTERVAL:P3D
CALSCALE:GREGORIAN
BEGIN:VEVENT
DTSTART:20211202T130000Z
DTEND:20211202T140000Z
X-MICROSOFT-CDO-ALLDAYEVENT:FALSE
SUMMARY:Early Bird at Persnickety
DESCRIPTION:Join your fellow Chamber Members for a morning of networking over breakfast! \n\n\n\nBe sure to bring your business cards for the PRS free ad drawing and Chamber Member Spotlight. See you there!
X-ALT-DESC;FMTTYPE=text/html:Join your fellow Chamber Members for a morning of networking over breakfast!&nbsp\;<br />\n<br />\nBe sure to bring your business cards for the PRS free ad drawing and Chamber Member Spotlight. See you there!&nbsp\;
LOCATION:Persnickety 1003 E. Oak St. Arcadia\, FL 34266
UID:e.1683.768
SEQUENCE:3
DTSTAMP:20260423T103407Z
URL:https://business.desotochamberfl.com/events/details/early-bird-at-persnickety-768
END:VEVENT

END:VCALENDAR
