BEGIN:VCALENDAR
VERSION:2.0
PRODID:-//ChamberMaster//Event Calendar 2.0//EN
METHOD:PUBLISH
X-PUBLISHED-TTL:P3D
REFRESH-INTERVAL:P3D
CALSCALE:GREGORIAN
BEGIN:VEVENT
DTSTART:20221201T130000Z
DTEND:20221201T140000Z
X-MICROSOFT-CDO-ALLDAYEVENT:FALSE
SUMMARY:Early Bird Breakfast\, Hosted By Persnickety
DESCRIPTION:Join us for our monthly Early Bird Breakfast! This month will be hosted by Persnickety.
X-ALT-DESC;FMTTYPE=text/html:Join us for our monthly Early Bird Breakfast! This month will be hosted by Persnickety.
LOCATION:1003 East Oak St
UID:e.1683.798
SEQUENCE:3
DTSTAMP:20260422T100205Z
URL:https://business.desotochamberfl.com/events/details/early-bird-breakfast-hosted-by-persnickety-798
END:VEVENT

END:VCALENDAR
