BEGIN:VCALENDAR
VERSION:2.0
PRODID:-//ChamberMaster//Event Calendar 2.0//EN
METHOD:PUBLISH
X-PUBLISHED-TTL:P3D
REFRESH-INTERVAL:P3D
CALSCALE:GREGORIAN
BEGIN:VEVENT
DTSTART:20210805T120000Z
DTEND:20210805T130000Z
X-MICROSOFT-CDO-ALLDAYEVENT:FALSE
SUMMARY:Early Bird - DeSoto Memorial Hospital
DESCRIPTION:Join your fellow Chamber Members for a morning of networking over breakfast! \n\n\n\nBe sure to bring your business cards for the PRS free as drawing and Chamber Master Spotlight. See you there!\n\n\n\nHosted by DeSoto Memorial Hospital (but held at the Chamber Office\, 16 S Volusia Ave)
X-ALT-DESC;FMTTYPE=text/html:Join your fellow Chamber Members for a morning of networking over breakfast!&nbsp\;<br />\n<br />\nBe sure to bring your business cards for the PRS free as drawing and Chamber Master Spotlight. See you there!<br />\n<br />\nHosted by DeSoto Memorial Hospital (but held at the Chamber Office\, 16 S Volusia Ave)
LOCATION:Chamber Office 16 S Volusia Ave
UID:e.1683.759
SEQUENCE:3
DTSTAMP:20260422T071623Z
URL:https://business.desotochamberfl.com/events/details/early-bird-desoto-memorial-hospital-759
END:VEVENT

END:VCALENDAR
