BEGIN:VCALENDAR
VERSION:2.0
PRODID:-//ChamberMaster//Event Calendar 2.0//EN
METHOD:PUBLISH
X-PUBLISHED-TTL:P3D
REFRESH-INTERVAL:P3D
CALSCALE:GREGORIAN
BEGIN:VEVENT
DTSTART:20230202T130000Z
DTEND:20230202T140000Z
X-MICROSOFT-CDO-ALLDAYEVENT:FALSE
SUMMARY:Early Bird Hosted by A+ Environmental Restoration
DESCRIPTION:Join us for our monthly Early Bird Breakfast! This month will be hosted by A+ Environmental Restoration.
X-ALT-DESC;FMTTYPE=text/html:<font color="#000000" face="nobel\, sans-serif"><span style="caret-color: rgb(0\, 0\, 0)\; font-size: 14px\;">Join us for our monthly Early Bird Breakfast! This month will be hosted by A+ Environmental Restoration.</span></font>
LOCATION:
UID:e.1683.803
SEQUENCE:3
DTSTAMP:20260422T082348Z
URL:https://business.desotochamberfl.com/events/details/early-bird-hosted-by-a-environmental-restoration-803
END:VEVENT

END:VCALENDAR
