BEGIN:VCALENDAR
VERSION:2.0
PRODID:-//ChamberMaster//Event Calendar 2.0//EN
METHOD:PUBLISH
X-PUBLISHED-TTL:P3D
REFRESH-INTERVAL:P3D
CALSCALE:GREGORIAN
BEGIN:VEVENT
DTSTART:20230803T120000Z
DTEND:20230803T130000Z
X-MICROSOFT-CDO-ALLDAYEVENT:FALSE
SUMMARY:Early Bird Hosted by Gator Wilderness Camp School (held in the Mosaic Room at the Chamber)
DESCRIPTION:Join us for our monthly Early Bird Breakfast! This month will be hosted by Gator Wilderness Camp School (held in the Mosaic Room at the Chamber).
X-ALT-DESC;FMTTYPE=text/html:<font color="#000000" face="nobel\, sans-serif"><span style="caret-color: rgb(0\, 0\, 0)\; font-size: 14px\;">Join us for our monthly Early Bird Breakfast! This month will be hosted by Gator Wilderness Camp School&nbsp\;</span></font>(held in the Mosaic Room at the Chamber).
LOCATION:
UID:e.1683.808
SEQUENCE:3
DTSTAMP:20260421T194748Z
URL:https://business.desotochamberfl.com/events/details/early-bird-hosted-by-gator-wilderness-camp-school-held-in-the-mosaic-room-at-the-chamber-808
END:VEVENT

END:VCALENDAR
