BEGIN:VCALENDAR
VERSION:2.0
PRODID:-//ChamberMaster//Event Calendar 2.0//EN
METHOD:PUBLISH
X-PUBLISHED-TTL:P3D
REFRESH-INTERVAL:P3D
CALSCALE:GREGORIAN
BEGIN:VEVENT
DTSTART:20220303T130000Z
DTEND:20220303T140000Z
X-MICROSOFT-CDO-ALLDAYEVENT:FALSE
SUMMARY:Early Bird Hosted by Habitat for Humanity Restore
DESCRIPTION:Join your fellow Chamber Members for a morning of networking over breakfast! \n\n\n\nBe sure to bring your business cards for the PRS free ad drawing and Chamber Member Spotlight! See you there!
X-ALT-DESC;FMTTYPE=text/html:Join your fellow Chamber Members for a morning of networking over breakfast!&nbsp\;<br />\n<br />\nBe sure to bring your business cards for the PRS free ad drawing and Chamber Member Spotlight! See you there!
LOCATION:1101 W Oak St Arcadia\, FL 34266
UID:e.1683.775
SEQUENCE:3
DTSTAMP:20260423T055531Z
URL:https://business.desotochamberfl.com/events/details/early-bird-hosted-by-habitat-for-humanity-restore-775
END:VEVENT

END:VCALENDAR
