BEGIN:VCALENDAR
VERSION:2.0
PRODID:-//ChamberMaster//Event Calendar 2.0//EN
METHOD:PUBLISH
X-PUBLISHED-TTL:P3D
REFRESH-INTERVAL:P3D
CALSCALE:GREGORIAN
BEGIN:VEVENT
DTSTART:20230601T120000Z
DTEND:20230601T130000Z
X-MICROSOFT-CDO-ALLDAYEVENT:FALSE
SUMMARY:Early Bird Hosted by Mid-Fl Credit Union (Legislative Event)
DESCRIPTION:Join us for our monthly Early Bird Breakfast! This month will be hosted by Mid-FL Credit Union (Legislative Event).
X-ALT-DESC;FMTTYPE=text/html:<font color="#000000" face="nobel\, sans-serif"><span style="caret-color: rgb(0\, 0\, 0)\; font-size: 14px\;">Join us for our monthly Early Bird Breakfast! This month will be hosted by Mid-FL Credit Union (Legislative Event).</span></font>
LOCATION:
UID:e.1683.807
SEQUENCE:3
DTSTAMP:20260422T005428Z
URL:https://business.desotochamberfl.com/events/details/early-bird-hosted-by-mid-fl-credit-union-legislative-event-807
END:VEVENT

END:VCALENDAR
