BEGIN:VCALENDAR
VERSION:2.0
PRODID:-//ChamberMaster//Event Calendar 2.0//EN
METHOD:PUBLISH
X-PUBLISHED-TTL:P3D
REFRESH-INTERVAL:P3D
CALSCALE:GREGORIAN
BEGIN:VEVENT
DTSTART:20230504T120000Z
DTEND:20230504T130000Z
X-MICROSOFT-CDO-ALLDAYEVENT:FALSE
SUMMARY:Early Bird Hosted by Mosaic (held at the Chamber in the Mosaic Community Room)
DESCRIPTION:Join us for our monthly Early Bird Breakfast! This month will be hosted by Mosaic (held at the Chamber in the Mosaic Community Room).
X-ALT-DESC;FMTTYPE=text/html:<font color="#000000" face="nobel\, sans-serif"><span style="caret-color: rgb(0\, 0\, 0)\; font-size: 14px\;">Join us for our monthly Early Bird Breakfast! This month will be hosted by Mosaic (held at the Chamber in the Mosaic Community Room).</span></font>
LOCATION:
UID:e.1683.806
SEQUENCE:3
DTSTAMP:20260422T010558Z
URL:https://business.desotochamberfl.com/events/details/early-bird-hosted-by-mosaic-held-at-the-chamber-in-the-mosaic-community-room-806
END:VEVENT

END:VCALENDAR
