BEGIN:VCALENDAR
VERSION:2.0
PRODID:-//ChamberMaster//Event Calendar 2.0//EN
METHOD:PUBLISH
X-PUBLISHED-TTL:P3D
REFRESH-INTERVAL:P3D
CALSCALE:GREGORIAN
BEGIN:VEVENT
DTSTART:20230907T120000Z
DTEND:20230907T130000Z
X-MICROSOFT-CDO-ALLDAYEVENT:FALSE
SUMMARY:Early Bird Hosted by South Florida State College
DESCRIPTION:Join us for our monthly Early Bird Breakfast! This month will be hosted by South Florida State College.
X-ALT-DESC;FMTTYPE=text/html:<font color="#000000" face="nobel\, sans-serif"><span style="caret-color: rgb(0\, 0\, 0)\; font-size: 14px\;">Join us for our monthly Early Bird Breakfast! This month will be hosted by South Florida State College.</span></font>
LOCATION:
UID:e.1683.809
SEQUENCE:3
DTSTAMP:20260421T173023Z
URL:https://business.desotochamberfl.com/events/details/early-bird-hosted-by-south-florida-state-college-09-07-2023-809
END:VEVENT

END:VCALENDAR
