BEGIN:VCALENDAR
VERSION:2.0
PRODID:-//ChamberMaster//Event Calendar 2.0//EN
METHOD:PUBLISH
X-PUBLISHED-TTL:P3D
REFRESH-INTERVAL:P3D
CALSCALE:GREGORIAN
BEGIN:VEVENT
DTSTART:20210107T130000Z
DTEND:20210107T140000Z
X-MICROSOFT-CDO-ALLDAYEVENT:FALSE
SUMMARY:January Early Bird
DESCRIPTION:Join your fellow Chamber Members for a morning of networking over breakfast! \n\nBe sure to bring your business cards for the PRS free ad drawing and Chamber Member Spotlight. \n\n\n\nSee you there!
X-ALT-DESC;FMTTYPE=text/html:<p style="margin: 0px\; font-stretch: normal\; font-size: 12px\; line-height: normal\; font-family: &quot\;Times New Roman&quot\;\; min-height: 15px\;">&nbsp\;</p>\n\n<p style="margin: 0px\; font-stretch: normal\; font-size: 12px\; line-height: normal\; font-family: &quot\;Times New Roman&quot\;\; min-height: 15px\;">&nbsp\;</p>\n\n<p style="margin: 0px\; font-stretch: normal\; font-size: 24px\; line-height: normal\; font-family: &quot\;Times New Roman&quot\;\;">Join your fellow Chamber Members for a morning of networking over breakfast!&nbsp\;</p>\n\n<p style="margin: 0px\; font-stretch: normal\; font-size: 24px\; line-height: normal\; font-family: &quot\;Times New Roman&quot\;\;">Be sure to bring your business cards for the PRS free ad drawing and Chamber Member Spotlight.&nbsp\;</p>\n\n<p style="margin: 0px\; font-stretch: normal\; font-size: 24px\; line-height: normal\; font-family: &quot\;Times New Roman&quot\;\;"><br />\nSee you there!</p>\n
LOCATION:Joshua Citrus 4135 SE CR 760
UID:e.1683.737
SEQUENCE:3
DTSTAMP:20260424T215749Z
URL:https://business.desotochamberfl.com/events/details/january-early-bird-737
END:VEVENT

END:VCALENDAR
