BEGIN:VCALENDAR
VERSION:2.0
PRODID:-//ChamberMaster//Event Calendar 2.0//EN
METHOD:PUBLISH
X-PUBLISHED-TTL:P3D
REFRESH-INTERVAL:P3D
CALSCALE:GREGORIAN
BEGIN:VEVENT
DTSTART:20201210T170000Z
DTEND:20201210T180000Z
X-MICROSOFT-CDO-ALLDAYEVENT:FALSE
SUMMARY:Noontime Networking
DESCRIPTION:Join your fellow Chamber Members for networking over lunch! \n\n\n\nBe sure to bring your dollars for the 50/50 drawing. See you there!\n\n\n\nHosted by Joshua Citrus\n\n4135 SE CR 760
X-ALT-DESC;FMTTYPE=text/html:Join your fellow Chamber Members for networking over lunch!&nbsp\;<br />\n<br />\nBe sure to bring your dollars for the 50/50 drawing. See you there!<br />\n<br />\nHosted by Joshua Citrus<br />\n4135 SE CR 760
LOCATION:Joshua Citrus 4135 SE CR 760
UID:e.1683.736
SEQUENCE:3
DTSTAMP:20260424T224724Z
URL:https://business.desotochamberfl.com/events/details/noontime-networking-736
END:VEVENT

END:VCALENDAR
