BEGIN:VCALENDAR
VERSION:2.0
PRODID:-//ChamberMaster//Event Calendar 2.0//EN
METHOD:PUBLISH
X-PUBLISHED-TTL:P3D
REFRESH-INTERVAL:P3D
CALSCALE:GREGORIAN
BEGIN:VEVENT
DTSTART:20230810T160000Z
DTEND:20230810T170000Z
X-MICROSOFT-CDO-ALLDAYEVENT:FALSE
SUMMARY:Noontime Networking hosted by Boys & Girls Club of Sarasota and DeSoto
DESCRIPTION:Join your fellow Chamber Members for networking over lunch! See you there!
X-ALT-DESC;FMTTYPE=text/html:<span style="color: rgb(0\, 0\, 0)\; font-family: Helvetica\, Arial\, sans-serif\; font-size: 14px\; font-variant-ligatures: normal\; orphans: 2\; widows: 2\; caret-color: rgb(0\, 0\, 0)\; text-decoration-thickness: initial\;">Join your fellow Chamber Members for networking over lunch! See you there!</span>
LOCATION:Boys & Girls Club of Sarasota and DeSoto
UID:e.1683.816
SEQUENCE:3
DTSTAMP:20260421T193828Z
URL:https://business.desotochamberfl.com/events/details/noontime-networking-hosted-by-boys-girls-club-of-sarasota-and-desoto-816
END:VEVENT

END:VCALENDAR
