BEGIN:VCALENDAR
VERSION:2.0
PRODID:-//ChamberMaster//Event Calendar 2.0//EN
METHOD:PUBLISH
X-PUBLISHED-TTL:P3D
REFRESH-INTERVAL:P3D
CALSCALE:GREGORIAN
BEGIN:VEVENT
DTSTART:20210408T160000Z
DTEND:20210408T170000Z
X-MICROSOFT-CDO-ALLDAYEVENT:FALSE
SUMMARY:Noontime Networking Hosted by Epiphany Health
DESCRIPTION:Join your fellow Chamber Member for networking over lunch! See you there!
X-ALT-DESC;FMTTYPE=text/html:Join your fellow Chamber Member for networking over lunch! See you there!
LOCATION:Epiphany Health 1006 N Mills Ave
UID:e.1683.750
SEQUENCE:3
DTSTAMP:20260422T002516Z
URL:https://business.desotochamberfl.com/events/details/noontime-networking-hosted-by-epiphany-health-750
END:VEVENT

END:VCALENDAR
