BEGIN:VCALENDAR
VERSION:2.0
PRODID:-//ChamberMaster//Event Calendar 2.0//EN
METHOD:PUBLISH
X-PUBLISHED-TTL:P3D
REFRESH-INTERVAL:P3D
CALSCALE:GREGORIAN
BEGIN:VEVENT
DTSTART:20210819T130000Z
DTEND:20210819T140000Z
X-MICROSOFT-CDO-ALLDAYEVENT:FALSE
SUMMARY:Ribbon Cutting - Monograms of DeSoto
DESCRIPTION:Join us for the Ribbon Cutting ceremony for Monograms of DeSoto!
X-ALT-DESC;FMTTYPE=text/html:<span style="caret-color: rgb(0\, 0\, 0)\; color: rgb(0\, 0\, 0)\; font-family: nobel\, sans-serif\; font-size: 14px\;">Join us for the Ribbon Cutting ceremony for Monograms of DeSoto!</span>
LOCATION:121 S. DeSoto Ave. (Formerly Lou's Venue)
UID:e.1683.761
SEQUENCE:3
DTSTAMP:20260422T094452Z
URL:https://business.desotochamberfl.com/events/details/ribbon-cutting-monograms-of-desoto-761
END:VEVENT

END:VCALENDAR
