BEGIN:VCALENDAR
VERSION:2.0
PRODID:-//ChamberMaster//Event Calendar 2.0//EN
METHOD:PUBLISH
X-PUBLISHED-TTL:P3D
REFRESH-INTERVAL:P3D
CALSCALE:GREGORIAN
BEGIN:VEVENT
DTSTART:20220928T130000Z
DTEND:20220928T140000Z
X-MICROSOFT-CDO-ALLDAYEVENT:FALSE
SUMMARY:Ribbon Cutting - NFM Lending
DESCRIPTION:Join NFM Lending for their Ribbon Cutting! See you there!
X-ALT-DESC;FMTTYPE=text/html:Join NFM Lending for their Ribbon Cutting! See you there!
LOCATION:NFM Lending 16 S. Monroe St. Arcadia\, FL 34266
UID:e.1683.791
SEQUENCE:3
DTSTAMP:20260422T161207Z
URL:https://business.desotochamberfl.com/events/details/ribbon-cutting-nfm-lending-791
END:VEVENT

END:VCALENDAR
