BEGIN:VCALENDAR
VERSION:2.0
PRODID:-//ChamberMaster//Event Calendar 2.0//EN
METHOD:PUBLISH
X-PUBLISHED-TTL:P3D
REFRESH-INTERVAL:P3D
CALSCALE:GREGORIAN
BEGIN:VEVENT
DTSTART:20210117T130000Z
DTEND:20210214T220000Z
X-MICROSOFT-CDO-ALLDAYEVENT:FALSE
SUMMARY:Tidewell Foundation Linen Drive
DESCRIPTION:Junior League Sustainers in partnership with the Tidewell Foundation and Leadership Sarasota is hosting a linen donation drive from January 17 to February 14. You can help us create a closet of donated linens available to Tidewell Hospice's field teams for patients who need sheets and towels for in-home and assisted living facility hospice care. Will you help us provide clean sheets and towels to our patients who are limited in resources and care? Donations needed include NEW sheets and towel sets. Click here to purchase linens on Amazon and have them shipped directly to us! You can also drop off your donations at any Tidewell Hospice building and the locations below.   Greater Sarasota Chamber of Commerce: 1945 Fruitville Road\, Sarasota\, FL 34236   Treasures Thrift Shop: 523 Venice Bypass #41\, Venice\, FL 34285   The Grove: 10670 Boardwalk Loop\, Lakewood Ranch\, FL 34202   Robert Toale & Sons: Manasota Memorial Park: 1221 53rd Ave. East\, Bradenton\, FL 34203   Kays-Ponger & Uselton: 635 E. Marion Road\, Punta Gorda\, FL 33950   Tidewell Foundation Building at Longboat Key: 540 Bay Isles Road\, Longboat Key\, FL 34228
X-ALT-DESC;FMTTYPE=text/html:Junior League Sustainers in partnership with the Tidewell Foundation and Leadership Sarasota is hosting a linen donation drive from January 17 to February 14. You can help us create a closet of donated linens available to Tidewell Hospice&rsquo\;s field teams for patients who need sheets and towels for in-home and assisted living facility hospice care. Will you help us provide clean sheets and towels to our patients who are limited in resources and care? Donations needed include NEW sheets and towel sets. Click here to purchase linens on Amazon and have them shipped directly to us! You can also drop off your donations at any Tidewell Hospice building and the locations below. &bull\; Greater Sarasota Chamber of Commerce: 1945 Fruitville Road\, Sarasota\, FL 34236 &bull\; Treasures Thrift Shop: 523 Venice Bypass #41\, Venice\, FL 34285 &bull\; The Grove: 10670 Boardwalk Loop\, Lakewood Ranch\, FL 34202 &bull\; Robert Toale &amp\; Sons: Manasota Memorial Park: 1221 53rd Ave. East\, Bradenton\, FL 34203 &bull\; Kays-Ponger &amp\; Uselton: 635 E. Marion Road\, Punta Gorda\, FL 33950 &bull\; Tidewell Foundation Building at Longboat Key: 540 Bay Isles Road\, Longboat Key\, FL 34228
LOCATION:Greater Sarasota Chamber of Commerce: 1945 Fruitville Road\, Sarasota\, FL 34236
UID:e.1683.741
SEQUENCE:3
DTSTAMP:20260422T035532Z
URL:https://business.desotochamberfl.com/events/details/tidewell-foundation-linen-drive-741
END:VEVENT

END:VCALENDAR
